BEGIN:VCALENDAR
VERSION:2.0
PRODID:-//Zeitschrift f&uuml;r Literatur - ECPv6.15.20//NONSGML v1.0//EN
CALSCALE:GREGORIAN
METHOD:PUBLISH
X-WR-CALNAME:Zeitschrift f&uuml;r Literatur
X-ORIGINAL-URL:https://akzenteliteratur.de
X-WR-CALDESC:Veranstaltungen für Zeitschrift f&uuml;r Literatur
REFRESH-INTERVAL;VALUE=DURATION:PT1H
X-Robots-Tag:noindex
X-PUBLISHED-TTL:PT1H
BEGIN:VTIMEZONE
TZID:UTC
BEGIN:STANDARD
TZOFFSETFROM:+0000
TZOFFSETTO:+0000
TZNAME:UTC
DTSTART:20250101T000000
END:STANDARD
END:VTIMEZONE
BEGIN:VTIMEZONE
TZID:Europe/Helsinki
BEGIN:DAYLIGHT
TZOFFSETFROM:+0200
TZOFFSETTO:+0300
TZNAME:EEST
DTSTART:20250330T010000
END:DAYLIGHT
BEGIN:STANDARD
TZOFFSETFROM:+0300
TZOFFSETTO:+0200
TZNAME:EET
DTSTART:20251026T010000
END:STANDARD
BEGIN:DAYLIGHT
TZOFFSETFROM:+0200
TZOFFSETTO:+0300
TZNAME:EEST
DTSTART:20260329T010000
END:DAYLIGHT
BEGIN:STANDARD
TZOFFSETFROM:+0300
TZOFFSETTO:+0200
TZNAME:EET
DTSTART:20261025T010000
END:STANDARD
BEGIN:DAYLIGHT
TZOFFSETFROM:+0200
TZOFFSETTO:+0300
TZNAME:EEST
DTSTART:20270328T010000
END:DAYLIGHT
BEGIN:STANDARD
TZOFFSETFROM:+0300
TZOFFSETTO:+0200
TZNAME:EET
DTSTART:20271031T010000
END:STANDARD
END:VTIMEZONE
BEGIN:VEVENT
DTSTART;VALUE=DATE:20260418
DTEND;VALUE=DATE:20260427
DTSTAMP:20260422T013743
CREATED:20260112T180538Z
LAST-MODIFIED:20260113T084047Z
UID:4738-1776470400-1777247999@akzenteliteratur.de
SUMMARY:Feministische Buchwoche
DESCRIPTION:Die Pilotstudie Frauen zählen\, die von den BücherFrauen mitinitiiert wurde\, kam zu dem Fazit: »Männliche Namen dominieren den literarischen Rezensionsbetrieb. Zwei Drittel aller Rezensionen würdigen die Werke von Autoren. Vor allem die als intellektuell oder ‚maskulin‘ empfundenen Genres wie Sachbuch und Kriminalliteratur werden von Autoren wie Kritikern vereinnahmt.« \nUm dem etwas entgegenzusetzen und Autorinnen sichtbarer zu machen\, starteten die BücherFrauen vom 6. bis 14. Mai 2023 erstmals eine bundesweite Feministische Buchwoche. Mit 48 Veranstaltungen wurde diese Premiere ein großer Erfolg. Folgerichtig fiel die Entscheidung\, mit dem Veranstaltungskonzept in Serie zu gehen. \nDie vierte Ausgabe findet vom 18. bis 26. April 2026 (und damit um den Welttag des Buches herum) statt. Freut euch auf Buch- und Verlagsvorstellungen\, auf Lesungen\, Diskussionsrunden und vieles mehr! Die Auftaktveranstaltung findet am Samstag\, den 18. April im Archiv der deutschen Frauenbewegung in Kassel statt.
URL:https://akzenteliteratur.de/veranstaltung/feministische-buchwoche/
ATTACH;FMTTYPE=image/png:https://akzenteliteratur.de/wp-content/uploads/2026/01/Feministische20Buchwoche.png
END:VEVENT
BEGIN:VEVENT
DTSTART;VALUE=DATE:20260421
DTEND;VALUE=DATE:20260501
DTSTAMP:20260422T013743
CREATED:20260421T030126Z
LAST-MODIFIED:20260421T030126Z
UID:4873-1776729600-1777593599@akzenteliteratur.de
SUMMARY:LITERATURFEST MÜNCHEN
DESCRIPTION:»Freiheit!«\, so heißt das unwiderstehliche Motto von Kuratorin Dana Grigorcea\, und sie feiert die Kunst als Quelle der Kraft und der Inspiration in allen Facetten. \n»Freiheit ist zwischen den Tanzschritten. Dort endet die Macht des Choreographen«\, so Schriftstellerin Dana Grigorcea. Als Rumänin\, die seit vielen Jahren in der Schweiz lebt\, hat sie einen besonderen Bezug dazu. Freuen wir uns auf ihre Gäste: Den Künstler Dan Perjovschi\, der mit seiner charmant-sinnigen Street-Art bereits das Publikum in Venedig\, New York und Kassel bezauberte. Die Künstlerinnen Maria Kalesnikava und Maria Aljochina (»Pussy Riot«)\, die mit unbändiger Energie ihre Freiheit behaupten. Außerdem dabei: US-Singer-Songwriter Daniel Kahn und die Bayerische Staatsoper\, erstmals Kooperationspartnerin des Literaturfests. Die »Münchner Schiene«\, diesmal kuratiert von Christina Madenach und Christian Schüle und dem Team der Münchner Volkshochschule (MVHS)\, führt uns in diesem Jahr in den »Werkraum« der Literatur und gibt spannende Einblicke ins Making of. \nZahlreiche Formate laden zum Austausch und Mitmachen ein: Sich zum Lesen zu treffen\, ist längst Kult (»Silent Reading«); gemeinsam Filme schauen und Emotionen teilen ist immer erhebend; fast so\, wie sein eigenes Talent im Kunst-Workshop zu entdecken. Und\, versprochen: Für viele Veranstaltungen gibt es einen kostenlosen Live-Stream\, als Geschenk an all jene\, die nicht vor Ort dabei sein können.
URL:https://akzenteliteratur.de/veranstaltung/literaturfest-muenchen-2/
ATTACH;FMTTYPE=image/png:https://akzenteliteratur.de/wp-content/uploads/2026/04/2026-04-21-LITERATURFEST-MUeNCHEN-scaled.png
END:VEVENT
BEGIN:VEVENT
DTSTART;TZID=UTC:20260422T193000
DTEND;TZID=UTC:20260422T223000
DTSTAMP:20260422T013743
CREATED:20251218T104659Z
LAST-MODIFIED:20251218T104659Z
UID:4709-1776886200-1776897000@akzenteliteratur.de
SUMMARY:Nicole Gronemeyer liest aus Hühner
DESCRIPTION:War zuerst das Huhn oder das Ei? Das Ei natürlich\, schreibt Nicole Gronemeyer in ihrem Buch Hühner in der »Naturkunden«-Reihe des Matthes & Seitz Verlags. Aber aus dem ersten Ei schlüpfte kein Huhn\, sondern dessen Vorfahre. Erst nach diversen Mutationen schlüpfte das erste Küken des indischen Bankivahuhns\, von dem unsere Haushühner abstammen. Schon Aristoteles hatte das pulsierende Herz des Kükens im Ei entdeckt: den sprichwörtlich »springenden Punkt«. Heute verbrauchen wir allein eine Milliarde Hühnereier als »Pharma-Eier« für die Grippeimpfung. Die Tiere scharren nicht mehr im Sand der Bauernhöfe\, sie leiden als »Tierautomaten« in »Käfigbatterien«. Etwa 30 Milliarden Hühner gibt es weltweit. \nNach einer Lesung von Nicole Gronemeyer über das Zusammenleben von Mensch und Huhn in der Kulturgeschichte wird Professor Michael Lierz\, Fachtierarzt für Geflügel und Ziervögel\, mit einer Präsentation über die Intensivhaltung in der Geflügelzucht informieren. \nEintritt: frei; Anmeldungen möglich: https://www.frankfurter-buergerstiftung.de/programm/veranstaltungen/2026-04-22/frankfurter-naturkunden-huehner-571 \nDarüber hinaus wird am Veranstaltungstag kostenfrei ein Livestream der Veranstaltung angeboten: https://www.frankfurter-buergerstiftung.de/informationen/mediathek/video/frankfurter-naturkunden-huehner-284
URL:https://akzenteliteratur.de/veranstaltung/nicole-gronemeyer-liest-aus-huehner/
LOCATION:Holzhausenschlösschen\, Justinianstraße 5\, Frankfurt am Main\, 60322
ATTACH;FMTTYPE=image/jpeg:https://akzenteliteratur.de/wp-content/uploads/2025/12/H�hner-Gronemeyer-scaled.jpg
END:VEVENT
END:VCALENDAR